BEGIN:VCALENDAR
VERSION:2.0
PRODID:-//Hogar&nbsp;Beit&nbsp;Sion - ECPv6.15.20//NONSGML v1.0//EN
CALSCALE:GREGORIAN
METHOD:PUBLISH
X-WR-CALNAME:Hogar&nbsp;Beit&nbsp;Sion
X-ORIGINAL-URL:https://www.beitsion.org.ar
X-WR-CALDESC:Eventos para Hogar&nbsp;Beit&nbsp;Sion
REFRESH-INTERVAL;VALUE=DURATION:PT1H
X-Robots-Tag:noindex
X-PUBLISHED-TTL:PT1H
BEGIN:VTIMEZONE
TZID:America/Argentina/Buenos_Aires
BEGIN:STANDARD
TZOFFSETFROM:-0300
TZOFFSETTO:-0300
TZNAME:-03
DTSTART:20230101T000000
END:STANDARD
END:VTIMEZONE
BEGIN:VEVENT
DTSTART;TZID=America/Argentina/Buenos_Aires:20241226T180000
DTEND;TZID=America/Argentina/Buenos_Aires:20241226T190000
DTSTAMP:20260421T052036
CREATED:20241218T124741Z
LAST-MODIFIED:20241223T130136Z
UID:1522-1735236000-1735239600@www.beitsion.org.ar
SUMMARY:Es Tiempo de Iluminar II | Día 2 - Fabiana Feiguelblat y Karin Rosenfeld Mordo
DESCRIPTION:Fabiana Feiguelblat nos invita a compartir una tarde de canciones con la presentación especial de nuestra querida y gran artista de canciones en ladino Karin Rosenfeld Mordo.
URL:https://www.beitsion.org.ar/evento/es-tiempo-de-iluminar-ii-dia-2-sergio-zabiello-y-karin-rosenfeld-mordo/
END:VEVENT
END:VCALENDAR